0.1
0
0
-0.1
615623.48682324
4648445.443679
