0.1
0
0
-0.1
618222.319834556
4647910.0138685
