0.1
0
0
-0.1
618241.672918105
4646753.45224909
