0.1
0
0
-0.1
619085.445903624
4647924.49352991
