0.1
0
0
-0.1
612107.104044592
4652437.62309079
