0.1
0
0
-0.1
612125.444654939
4651281.10372777
