0.1
0
0
-0.1
614713.491758667
4651322.73605389
