0.1
0
0
-0.1
615576.17748415
4651336.82218913
