0.1
0
0
-0.1
612143.784266982
4650124.5643448
