0.1
0
0
-0.1
613878.752540258
4649574.03922683
