0.1
0
0
-0.1
617311.153832383
4650787.14035048
