0.1
0
0
-0.1
616477.005663379
4649038.01060088
