0.1
0
0
-0.1
619065.943629787
4649081.05541773
