0.1
0
0
-0.1
610463.231271028
4647206.07504952
