0.1
0
0
-0.1
613906.692490193
4647839.21117125
