0.1
0
0
-0.1
614788.586774799
4646696.53037591
