0.1
0
0
-0.1
616486.538808233
4648459.73059442
