0.1
0
0
-0.1
617349.590815619
4648474.0168243
