0.1
0
0
-0.1
616496.069453112
4647881.45108577
