0.1
0
0
-0.1
615642.4014484
4647288.8865395
