0.1
0
0
-0.1
616505.600098062
4647303.17257496
