0.1
0
0
-0.1
619948.570972552
4647939.18669566
