0.1
0
0
-0.1
610490.269160126
4645471.26429334
