0.1
0
0
-0.1
612207.933193391
4646076.64147604
