0.1
0
0
-0.1
613943.923077981
4645526.1099
