0.1
0
0
-0.1
615661.311572575
4646132.33239132
