0.1
0
0
-0.1
617397.596127041
4645582.61973037
