0.1
0
0
-0.1
617416.789170553
4644426.06001819
