0.1
0
0
-0.1
618280.352168544
4644440.33155722
