0.1
0
0
-0.1
619978.033679843
4646204.34393321
