0.1
0
0
-0.1
613981.15870043
4643213.00951826
