0.1
0
0
-0.1
616572.277371624
4643255.22519513
