0.1
0
0
-0.1
618299.695085598
4643283.77206693
