0.1
0
0
-0.1
615718.022105148
4642662.6723386
