0.1
0
0
-0.1
618309.367795294
4642705.49306857
