0.1
0
0
-0.1
615727.47672639
4642084.39571247
