0.1
0
0
-0.1
617455.186657057
4642112.94454359
