0.1
0
0
-0.1
618319.039005705
4642127.21406805
