0.1
0
0
-0.1
620017.297637144
4643891.22339533
