0.1
0
0
-0.1
620880.935263237
4643905.9163194
