0.1
0
0
-0.1
621744.572885294
4643920.60874857
