0.1
0
0
-0.1
620890.818573167
4643327.63754085
