0.1
0
0
-0.1
620046.735968356
4642156.38683566
