0.1
0
0
-0.1
621774.431417491
4642185.77562397
