0.1
0
0
-0.1
618328.706216798
4641548.93656542
