0.1
0
0
-0.1
618338.369428593
4640970.66156066
