0.1
0
0
-0.1
619202.360394376
4640985.14200324
