0.1
0
0
-0.1
625219.51774714
4642824.26348053
