0.1
0
0
-0.1
623502.098296364
4642215.77678953
