0.1
0
0
-0.1
624376.083508518
4641652.60180387
